BEGIN:VCALENDAR
VERSION:2.0
PRODID:spatie/icalendar-generator
DESCRIPTION:Events from Women Executives&amp;#039\; Network
X-WR-CALDESC:Events from Women Executives&amp;#039\; Network
REFRESH-INTERVAL;VALUE=DURATION:PT1440M
X-PUBLISHED-TTL:PT1440M
BEGIN:VTIMEZONE
TZID:Etc/GMT+0
BEGIN:STANDARD
DTSTART:20250816T120000Z
TZOFFSETFROM:+0000
TZOFFSETTO:+0000
END:STANDARD
END:VTIMEZONE
BEGIN:VTIMEZONE
TZID:UTC
BEGIN:STANDARD
DTSTART:20250727T183807Z
TZOFFSETFROM:+0000
TZOFFSETTO:+0000
END:STANDARD
END:VTIMEZONE
BEGIN:VEVENT
UID:70-1
DTSTAMP:20260423T183807Z
SUMMARY:Monthly Meeting
LOCATION:
ORGANIZER;CN=laureldesign4:MAILTO:laureldesign4@gmail.com
RRULE:FREQ=MONTHLY;BYDAY=2WE;COUNT=0
DTSTART;TZID=Etc/GMT+0:20260513T120000
DTEND;TZID=Etc/GMT+0:20260513T130000
X-ALT-DESC;FMTTYPE=TEXT/HTML:
CATEGORIES:Meetings
URL;VALUE=URI:https://alwen.org/mc-events/monthly-meeting/?mc_id=70
METHOD:PUBLISH
END:VEVENT
END:VCALENDAR