BEGIN:VCALENDAR
VERSION:2.0
PRODID:spatie/icalendar-generator
DESCRIPTION:Events from Women Executives&amp;#039\; Network
X-WR-CALDESC:Events from Women Executives&amp;#039\; Network
REFRESH-INTERVAL;VALUE=DURATION:PT1440M
X-PUBLISHED-TTL:PT1440M
BEGIN:VTIMEZONE
TZID:Etc/GMT+0
BEGIN:STANDARD
DTSTART:20250729T000000Z
TZOFFSETFROM:+0000
TZOFFSETTO:+0000
END:STANDARD
END:VTIMEZONE
BEGIN:VTIMEZONE
TZID:UTC
BEGIN:STANDARD
DTSTART:20250727T183541Z
TZOFFSETFROM:+0000
TZOFFSETTO:+0000
END:STANDARD
END:VTIMEZONE
BEGIN:VEVENT
UID:247-2
DTSTAMP:20260423T183541Z
SUMMARY:Vickie Tolbert Birthday
LOCATION:
ORGANIZER;CN=laureldesign4:MAILTO:laureldesign4@gmail.com
RRULE:FREQ=YEARLY;BYMONTH=04;BYDAY=25;COUNT=0
DTSTART;TZID=Etc/GMT+0;VALUE=DATE:20260425
DTEND;TZID=Etc/GMT+0;VALUE=DATE:20260426
X-ALT-DESC;FMTTYPE=TEXT/HTML:
CATEGORIES:Birthday
URL;VALUE=URI:https://alwen.org/mc-events/vickie-tolbert-birthday/?mc_id=24
 7
METHOD:PUBLISH
END:VEVENT
END:VCALENDAR